BEGIN:VCALENDAR
VERSION:2.0
PRODID:-//Visit Kennebec Valley - ECPv6.15.20//NONSGML v1.0//EN
CALSCALE:GREGORIAN
METHOD:PUBLISH
X-WR-CALNAME:Visit Kennebec Valley
X-ORIGINAL-URL:https://visitkennebecvalley.com
X-WR-CALDESC:Events for Visit Kennebec Valley
REFRESH-INTERVAL;VALUE=DURATION:PT1H
X-Robots-Tag:noindex
X-PUBLISHED-TTL:PT1H
BEGIN:VTIMEZONE
TZID:America/New_York
BEGIN:DAYLIGHT
TZOFFSETFROM:-0500
TZOFFSETTO:-0400
TZNAME:EDT
DTSTART:20250309T070000
END:DAYLIGHT
BEGIN:STANDARD
TZOFFSETFROM:-0400
TZOFFSETTO:-0500
TZNAME:EST
DTSTART:20251102T060000
END:STANDARD
BEGIN:DAYLIGHT
TZOFFSETFROM:-0500
TZOFFSETTO:-0400
TZNAME:EDT
DTSTART:20260308T070000
END:DAYLIGHT
BEGIN:STANDARD
TZOFFSETFROM:-0400
TZOFFSETTO:-0500
TZNAME:EST
DTSTART:20261101T060000
END:STANDARD
BEGIN:DAYLIGHT
TZOFFSETFROM:-0500
TZOFFSETTO:-0400
TZNAME:EDT
DTSTART:20270314T070000
END:DAYLIGHT
BEGIN:STANDARD
TZOFFSETFROM:-0400
TZOFFSETTO:-0500
TZNAME:EST
DTSTART:20271107T060000
END:STANDARD
END:VTIMEZONE
BEGIN:VEVENT
DTSTART;TZID=America/New_York:20260225T193000
DTEND;TZID=America/New_York:20260225T220000
DTSTAMP:20260423T132613
CREATED:20260325T144320Z
LAST-MODIFIED:20260325T144320Z
UID:10000013-1772047800-1772056800@visitkennebecvalley.com
SUMMARY:Black Violin
DESCRIPTION:For nearly two decades\, Black Violin (Kev Marcus and Wil Baptiste) has been merging string arrangements with modern beats and vocals\, building bridges in communities along the way. NPR took note and declared “their music will keep classical music alive for the next generation.” Black Violin plays roughly 200 shows a year\, many of which are performances for young\, low-income students in urban communities. In the last year alone\, the group has played for over 100\,000 students with the goal of challenging stereotypes and preconceived notions of what a “classical musician” looks and sounds like. “It’s a unique thing that brings people together who aren’t usually in the same room\,” Baptiste said. “And in the current climate\, it’s good to bring people together.” \nOn Sale to WC Members: Tuesday\, November 11 at 10am\nOn Sale to Public: Friday\, November 14 at 12pm \nTickets:$52-$147\nPrices include a per ticket handling fee. A portion of all ticket fees are designated to support the Youth Arts Access Fund. Tickets are nonrefundable.\nThis event is eligible for the Youth Arts Access Fund. \nVIP Package includes… \n\nOne Premium Reserved ticket in the first six (6) rows\nInvitation to a private pre-show experience including:\nAccess to view a portion of soundcheck\nQ&A session\nPhoto opportunity with Kev and Wil\nCommemorative VIP laminate\nVIP access to the merchandise booth and a 20% discount on any available item\nEarly entry to the venue
URL:https://visitkennebecvalley.com/event/black-violin/
LOCATION:ME
CATEGORIES:Arts and Culture
ATTACH;FMTTYPE=image/jpeg:https://visitkennebecvalley.com/wp-content/uploads/2026/03/Black-Violin-Square-w_-logo-Nufh0K.jpg
END:VEVENT
END:VCALENDAR